BEGIN:VCALENDAR
VERSION:2.0
PRODID:-//Jazzclub Rheingau eV.//NONSGML kigkonsult.se iCalcreator 2.41.92//
CALSCALE:GREGORIAN
METHOD:PUBLISH
UID:32316666-6535-4265-b938-616131343862
X-WR-CALNAME:iCagenda
X-WR-CALDESC:Event Management Extension for Joomla!
X-WR-RELCALID:3E26604A-50F4-4449-8B3E-E4F4932D05B5
X-WR-TIMEZONE:Europe/Berlin
BEGIN:VTIMEZONE
TZID:Europe/Berlin
TZUNTIL:20280326T010000Z
BEGIN:STANDARD
TZNAME:CET
DTSTART:20251026T030000
TZOFFSETFROM:+0200
TZOFFSETTO:+0100
RDATE:20261025T030000
RDATE:20271031T030000
END:STANDARD
BEGIN:DAYLIGHT
TZNAME:CEST
DTSTART:20260329T020000
TZOFFSETFROM:+0100
TZOFFSETTO:+0200
RDATE:20270328T020000
END:DAYLIGHT
END:VTIMEZONE
BEGIN:VEVENT
UID:38643533-3531-4332-b862-313062303163
DTSTAMP:20260423T071542Z
CATEGORIES:Jazzwoche
CLASS:PUBLIC
DESCRIPTION;ALTREP="CID:<FFFF__=0ABBE548DFE235B58f9e8a93d@coffeebean.com>":
 Gegründet 1996 in Wiesbaden!\nIn der klassischen Besetzung des Dixieland s
 pielt die Band ein vielfältiges und abwechslungsreiches Programm- vom trau
 rigen Blues\,\nüber fetzigen Dixie bis hin zu gefälligem Swing.\nDie Abwec
 hslung zwischen freier Improvisation\, Solospiel und gesetzten Riffs\, die
  Einheit des Klangkörpers und die ständig spürbare Spielfreude der Musiker
  lassen die Musik der\nSLOPPY-NOTES -JAZZBAND ein Erlebnis für alle Freund
 e swingender Musik werden.\n \nHarald Möbus (tp)\,Thomas Werschnik (trb)\n
 Michael Borhauer (cl \, sax)\, Wilfried Jüterbock (p)\nMartin Seyffert (b)
 \, Edgar Seufert (dr)\n \nBeginn: 19 Uhr   Einlass: 18 Uhr   Eintritt: 16 
 €\n 
DTSTART:20260703T170000Z
DTEND:20260703T170000Z
GEO:+49.997826;+8.005887
LOCATION:Weingut Geromont\, Hauptstraße 80\, 65375 Oestrich-Winkel
ORGANIZER:
SEQUENCE:1
SUMMARY:Die SLOPPY- NOTES- JAZZBAND
TRANSP:OPAQUE
URL:https://www.jazzclub-rheingau.de/index.php/eventlist/die-sloppy-notes-j
 azzband/2026-07-03-19-00?layout=vcal
END:VEVENT
END:VCALENDAR
